BEGIN:VCALENDAR
VERSION:2.0
PRODID:-//Quo vadis? - ECPv6.15.17.1//NONSGML v1.0//EN
CALSCALE:GREGORIAN
METHOD:PUBLISH
X-ORIGINAL-URL:https://www.quovadisfestival.it
X-WR-CALDESC:Eventi per Quo vadis?
REFRESH-INTERVAL;VALUE=DURATION:PT1H
X-Robots-Tag:noindex
X-PUBLISHED-TTL:PT1H
BEGIN:VTIMEZONE
TZID:Europe/Rome
BEGIN:DAYLIGHT
TZOFFSETFROM:+0100
TZOFFSETTO:+0200
TZNAME:CEST
DTSTART:20250330T010000
END:DAYLIGHT
BEGIN:STANDARD
TZOFFSETFROM:+0200
TZOFFSETTO:+0100
TZNAME:CET
DTSTART:20251026T010000
END:STANDARD
BEGIN:DAYLIGHT
TZOFFSETFROM:+0100
TZOFFSETTO:+0200
TZNAME:CEST
DTSTART:20260329T010000
END:DAYLIGHT
BEGIN:STANDARD
TZOFFSETFROM:+0200
TZOFFSETTO:+0100
TZNAME:CET
DTSTART:20261025T010000
END:STANDARD
BEGIN:DAYLIGHT
TZOFFSETFROM:+0100
TZOFFSETTO:+0200
TZNAME:CEST
DTSTART:20270328T010000
END:DAYLIGHT
BEGIN:STANDARD
TZOFFSETFROM:+0200
TZOFFSETTO:+0100
TZNAME:CET
DTSTART:20271031T010000
END:STANDARD
END:VTIMEZONE
BEGIN:VEVENT
DTSTART;TZID=Europe/Rome:20260516T160000
DTEND;TZID=Europe/Rome:20260516T180000
DTSTAMP:20260424T013535
CREATED:20260423T094154Z
LAST-MODIFIED:20260423T151739Z
UID:63107-1778947200-1778954400@www.quovadisfestival.it
SUMMARY:Letture per bambine e bambini | Laives
DESCRIPTION:SABATO 16 MAGGIO\nORE 16:00 *\nLAIVES\, SALA ESPOSITIVA\, VIA PIETRALBA 29\nDURATA: 2 H\nCON JOANA PREZA \nUn pomeriggio per scoprire l’incanto degli albi illustrati. Bambine e bambini\, aprite gli occhi e spalancate le orecchie per tutte le lingue: tra colori\, disegni e parole prendono vita mondi immaginari da esplorare. Una lettura condivisa\, dove le storie si fanno viaggio\, e ogni pagina diventa occasione per ascoltare\, immaginare e conoscersi meglio. Siete pronti a entrare nei racconti e a perdervi tra le illustrazioni? Seguirà un breve laboratorio creativo. \n* la partecipazione agli eventi è gratuita ma è necessaria la prenotazione sulla piattaforma Eventbrite. \nJoana Preza è un’artista visiva e poeta nata a Shijak\, in Albania nel 1995. Si forma come illustratrice presso l’Accademia di Belle Arti di Bologna e Firenze. Sperimenta diversi linguaggi\, coltivando un forte interesse per il Libro in tutte le sue declinazioni. La sua ricerca parte soprattutto dall’accoglienza dell’invisibile che ci orbita attorno\, indagando pratiche di attenzione spontanea e conseguente trasmutazione. Ha partecipato alla residenza di poesia “Arimo” presso la Casa degli Artisti (Milano)\, ed è presente tra le voci poetiche dell’antologia Poesie scelte\, edita da Specchio Mondadori.
URL:https://www.quovadisfestival.it/event/letture-per-bambine-e-bambini-laives/
LOCATION:Sala Espositiva Laives\, via Pietralba 29\, Laives\, BZ\, 39055\, Italy
CATEGORIES:Letteratura e poesia,Per bambine e bambini
ATTACH;FMTTYPE=image/jpeg:https://www.quovadisfestival.it/wp-content/uploads/2026/04/albi-illustrati-bambini-e-Laives_letture-bambini.jpg
END:VEVENT
BEGIN:VEVENT
DTSTART;TZID=Europe/Rome:20260528T173000
DTEND;TZID=Europe/Rome:20260528T183000
DTSTAMP:20260424T013535
CREATED:20260423T101924Z
LAST-MODIFIED:20260423T104623Z
UID:63131-1779989400-1779993000@www.quovadisfestival.it
SUMMARY:Albania\, un ritratto intenso e femminile
DESCRIPTION:GIOVEDÌ 28 MAGGIO\nORE 17:30\nMERANO\, MEDIATECA MULTILINGUE\nPIAZZA DELLA RENA 10\nDURATA: 1 H\nCON ANILDA IBRAHIMI\nMODERA ROBERTA CATANIA \nAttraverso il suo sguardo e quello delle donne protagoniste dei suoi romanzi\, la scrittrice albanese Anilda Ibrahimi – ormai da molti anni residente in Italia – offre un ritratto dell’Albania del Novecento: una terra di forte memoria culturale\, segnata dall’emigrazione ma capace di lasciare un profondo senso di appartenenza in chi se ne va. Tra tutti i suoi personaggi\, sono le donne a spiccare: protagoniste della società con le loro storie\, le loro scelte\, la loro forza\, la loro resistenza. Donne non vittime ma protagoniste silenziose\, complesse\, contraddittorie e profondamente umane. \n* la partecipazione del pubblico agli eventi è gratuita ma è necessaria la prenotazione sulla piattaforma Eventbrite. \n  \nAnilda Ibrahimi è nata a Valona nel 1972. Ha studiato letteratura a Tirana. Nel 1994 ha lasciato l’Albania\, trasferendosi prima in Svizzera e poi\, dal 1997\, in Italia. Il suo primo romanzo Rosso come una sposa è uscito presso Einaudi nel 2008 e ha vinto i premi Edoardo Kihlgren – Città di Milano\, Corrado Alvaro\, Città di Penne\, Giuseppe Antonio Arena. Per Einaudi ha pubblicato anche il suo secondo romanzo L’amore e gli stracci del tempo (2009 e 2011\, di cui sono stati opzionati i diritti cinematografici\, premio Paralup della Fondazione Nuto Revelli). Nel 2012 ha pubblicato\, sempre per Einaudi Non c’è dolcezza e\, nel 2017 Il tuo nome è una promessa premio Rapallo 2017. L’ultimo romanzo Volevo essere Madame Bovary (Einaudi)\, uscito nel 2022\, ha vinto il premio Acerbi. I suoi romanzi sono tradotti in sei Paesi. Vive e lavora a Roma.
URL:https://www.quovadisfestival.it/event/albania-un-ritratto-intenso-e-femminile/
LOCATION:Mediateca Multilingue Merano\, Piazza della Rena\, 10\, Merano\, BZ\, 39012\, Italy
CATEGORIES:Letteratura e poesia
ATTACH;FMTTYPE=image/jpeg:https://www.quovadisfestival.it/wp-content/uploads/2026/04/Merano_ritratto-intenso-e-femminile.jpg
END:VEVENT
BEGIN:VEVENT
DTSTART;TZID=Europe/Rome:20260528T183000
DTEND;TZID=Europe/Rome:20260528T193000
DTSTAMP:20260424T013535
CREATED:20260423T102216Z
LAST-MODIFIED:20260423T104633Z
UID:63133-1779993000-1779996600@www.quovadisfestival.it
SUMMARY:“Tempi che sono”: presentazione della raccolta di poesie
DESCRIPTION:GIOVEDÌ 28 MAGGIO\nORE 18:30 *\nLAIVES\, BIBLIOTECA DON BOSCO\, VIA KENNEDY 94\nDURATA: 1 H\nCON GENTIANA MINGA \nUn incontro in biblioteca per entrare nel mondo poetico di Gentiana Minga: l’autrice albanese parlerà della sua ultima raccolta di poesie in tre lingue\, Tempi che sono…/Zeiten wie diese…/Kohë që janë…\, e leggerà alcuni brani. Tra memorie e migrazioni\, i versi raccontano come canti antichi i sentimenti quotidiani\, le assenze e le presenze di terre lontane. Attraverso un gioco di sguardi riflessi entreremo in una visione intima sull’Albania e sulle connessioni tra culture\, ascoltando\, emozionandoci e riflettendo assieme. \n* la partecipazione agli eventi è gratuita ma è necessaria la prenotazione sulla piattaforma Eventbrite.
URL:https://www.quovadisfestival.it/event/tempi-che-sono-presentazione-della-raccolta-di-poesie/
LOCATION:biblioteca don bosco\, Via John Fitzgerald Kennedy\, 94\, Laives\, BZ\, 39055\, Italy
CATEGORIES:Letteratura e poesia
ATTACH;FMTTYPE=image/jpeg:https://www.quovadisfestival.it/wp-content/uploads/2026/04/Laives_tempi-che-sono.jpg
END:VEVENT
BEGIN:VEVENT
DTSTART;TZID=Europe/Rome:20260529T173000
DTEND;TZID=Europe/Rome:20260529T183000
DTSTAMP:20260424T013535
CREATED:20260423T102716Z
LAST-MODIFIED:20260423T102716Z
UID:63139-1780075800-1780079400@www.quovadisfestival.it
SUMMARY:Il punto di vista delle donne
DESCRIPTION:VENERDÌ 29 MAGGIO\nORE 17:30\nBOLZANO\, NUOVA LIBRERIA CAPPELLI\nCORSO DELLA LIBERTÀ 2\nDURATA: 1 H\nCON ANILDA IBRAHIMI\nMODERA ROBERTA CATANIA \nIl tema della donna è centrale nelle opere di Anilda Ibrahimi\, scrittrice albanese che ormai da anni vive e lavora a Roma\, e viene sviluppato in modo molto sfaccettato\, mai ridotto a un’unica prospettiva. Più che raccontare le donne\, Anilda Ibrahimi mostra nelle sue opere come esse vivono all’interno di sistemi sociali rigidi e come li sfidano\, li subiscono o li trasformano. Donne che resistono\, non in modo plateale o eroico\, ma in modo silenzioso\, mostrandosi solidali tra generazioni e capaci di reinventarsi. È attraverso il loro punto di vista che scorre la storia dell’Albania nel suo romanzo d’esordio\, Rosso come una sposa\, che l’ha resa nota al grande pubblico. \n* la partecipazione del pubblico agli eventi è gratuita ma è necessaria la prenotazione sulla piattaforma Eventbrite. \n  \nAnilda Ibrahimi è nata a Valona nel 1972. Ha studiato letteratura a Tirana. Nel 1994 ha lasciato l’Albania\, trasferendosi prima in Svizzera e poi\, dal 1997\, in Italia. Il suo primo romanzo Rosso come una sposa è uscito presso Einaudi nel 2008 e ha vinto i premi Edoardo Kihlgren – Città di Milano\, Corrado Alvaro\, Città di Penne\, Giuseppe Antonio Arena. Per Einaudi ha pubblicato anche il suo secondo romanzo L’amore e gli stracci del tempo (2009 e 2011\, di cui sono stati opzionati i diritti cinematografici\, premio Paralup della Fondazione Nuto Revelli). Nel 2012 ha pubblicato\, sempre per Einaudi Non c’è dolcezza e\, nel 2017 Il tuo nome è una promessa premio Rapallo 2017. L’ultimo romanzo Volevo essere Madame Bovary (Einaudi)\, uscito nel 2022\, ha vinto il premio Acerbi. I suoi romanzi sono tradotti in sei Paesi. Vive e lavora a Roma.
URL:https://www.quovadisfestival.it/event/il-punto-di-vista-delle-donne/
LOCATION:Nuova Libreria Cappelli\, Corso della Libertà\, 2\, Bolzano\, BZ\, 39100\, Italy
CATEGORIES:Letteratura e poesia
ATTACH;FMTTYPE=image/jpeg:https://www.quovadisfestival.it/wp-content/uploads/2026/04/il-punto-di-vista-delle-donne.jpg
END:VEVENT
BEGIN:VEVENT
DTSTART;TZID=Europe/Rome:20260604T180000
DTEND;TZID=Europe/Rome:20260604T190000
DTSTAMP:20260424T013535
CREATED:20260423T103113Z
LAST-MODIFIED:20260423T103113Z
UID:63146-1780596000-1780599600@www.quovadisfestival.it
SUMMARY:Oltre/Përtej. Antologia bilingue dei poeti albanesi
DESCRIPTION:GIOVEDÌ 4 GIUGNO\nORE 18:00\nBOLZANO\, ODA BAR BISTRO’\nVIA ROMA 74\nDURATA: 1 H\nCON EDOARDO OLMI\, GENTIANA MINGA\, JOANA PREZA\nIn collaborazione con Nuova Libreria Cappelli \nUn incontro dedicato alla presentazione della prima antologia bilingue che raccoglie le voci dei poeti albanesi in Italia\, protagonisti di una generazione transnazionale nata dalle migrazioni degli anni Novanta. Il percorso poetico tra lingua e identità si è intrecciato in questa raccolta al panorama della poesia contemporanea. La lettura dei testi\, in italiano e in albanese\, da parte di alcuni degli autori presenti nella raccolta\, offrirà al pubblico un’occasione per attraversare esperienze\, memorie e visioni collocate tra le due culture. L’evento si svolgerà presso il bar bistrò Oda\, parola che in albanese indica la stanza più importante di una casa\, dove l’ospite riceve accoglienza\, cura e presenza nell’ascolto. \n* la partecipazione del pubblico agli eventi è gratuita ma è necessaria la prenotazione sulla piattaforma Eventbrite. \n  \nEdoardo Olmi è nato a Firenze nel 1984. Ha pubblicato tre libri di poesia e la raccolta antologica Poesie scelte (2003-2021). Suoi testi sono apparsi su antologie e riviste nazionali e internazionali e sono stati tradotti in varie lingue. \nGentiana Minga è nata nel 1971 a Durazzo\, Albania. Ha pubblicato: Autopsia del disastro\, 1993; La signora di Scutari\, 2003; Ciao mamma\, un saluto da Bolzano\, 2017; Tempi che sono…/Zeiten wie diese…/Kohë që janë…\, 2021. È co-autore in varie antologie tra cui: Literatur sichten\, 2021\, Viena; Aerea – Pais remoto\, Cile; Lichtungen- Zeitschrift fur Literatur Kunst und Zeitkritik\, ed. Lichtungen\, Graz\, 2019; Madri e figlie nella poesia italiana dagli anni Sessanta a oggi. \nJoana Preza è un’artista visiva e poeta nata a Shijak\, in Albania nel 1995. Si forma come illustratrice presso l’Accademia di Belle Arti di Bologna e Firenze. Sperimenta diversi linguaggi\, coltivando un forte interesse per il Libro in tutte le sue declinazioni. La sua ricerca parte soprattutto dall’accoglienza dell’invisibile che ci orbita attorno\, indagando pratiche di attenzione spontanea e conseguente trasmutazione. Ha partecipato alla residenza di poesia “Arimo” presso la Casa degli Artisti (Milano)\, ed è presente tra le voci poetiche dell’antologia Poesie scelte\, edita da Specchio Mondadori.
URL:https://www.quovadisfestival.it/event/oltre-pertej-antologia-bilingue-dei-poeti-albanesi/
LOCATION:Oda Bar Bistro\, Via Roma\, 74\, Bolzano\, BZ\, 39100\, Italy
CATEGORIES:Letteratura e poesia
ATTACH;FMTTYPE=image/jpeg:https://www.quovadisfestival.it/wp-content/uploads/2026/04/oltre_pertej.jpg
END:VEVENT
END:VCALENDAR