BEGIN:VCALENDAR
VERSION:2.0
PRODID:-//Quo vadis? - ECPv6.15.17.1//NONSGML v1.0//EN
CALSCALE:GREGORIAN
METHOD:PUBLISH
X-ORIGINAL-URL:https://www.quovadisfestival.it
X-WR-CALDESC:Eventi per Quo vadis?
REFRESH-INTERVAL;VALUE=DURATION:PT1H
X-Robots-Tag:noindex
X-PUBLISHED-TTL:PT1H
BEGIN:VTIMEZONE
TZID:Europe/Rome
BEGIN:DAYLIGHT
TZOFFSETFROM:+0100
TZOFFSETTO:+0200
TZNAME:CEST
DTSTART:20250330T010000
END:DAYLIGHT
BEGIN:STANDARD
TZOFFSETFROM:+0200
TZOFFSETTO:+0100
TZNAME:CET
DTSTART:20251026T010000
END:STANDARD
BEGIN:DAYLIGHT
TZOFFSETFROM:+0100
TZOFFSETTO:+0200
TZNAME:CEST
DTSTART:20260329T010000
END:DAYLIGHT
BEGIN:STANDARD
TZOFFSETFROM:+0200
TZOFFSETTO:+0100
TZNAME:CET
DTSTART:20261025T010000
END:STANDARD
BEGIN:DAYLIGHT
TZOFFSETFROM:+0100
TZOFFSETTO:+0200
TZNAME:CEST
DTSTART:20270328T010000
END:DAYLIGHT
BEGIN:STANDARD
TZOFFSETFROM:+0200
TZOFFSETTO:+0100
TZNAME:CET
DTSTART:20271031T010000
END:STANDARD
END:VTIMEZONE
BEGIN:VEVENT
DTSTART;TZID=Europe/Rome:20260514T180000
DTEND;TZID=Europe/Rome:20260514T200000
DTSTAMP:20260423T231426
CREATED:20260423T104439Z
LAST-MODIFIED:20260423T151611Z
UID:63161-1778781600-1778788800@www.quovadisfestival.it
SUMMARY:Inizio mini corso di lingua albanese per adulti
DESCRIPTION:GIOVEDÌ 14 MAGGIO\,\nGIOVEDÌ 21 MAGGIO\,\nGIOVEDÌ 28 MAGGIO\,\nGIOVEDÌ 4 GIUGNO\nORE 18:00\nBOLZANO\, CEDOCS\nCORSO ITALIA 13/M\nDURATA: 2 H A LEZIONE\nCON MIRANDA ALTERZIU \nUn minicorso di albanese per avvicinarsi a questa lingua piena di consonanti e strane vocali\, come la ë\, sconosciuta anche ai germanofoni.\nIn quattro incontri\, le partecipanti e i partecipanti impareranno a comunicare nelle situazioni quotidiane: salutare\, presentarsi\, fare domande semplici\, e comprendere le espressioni presenti nelle più comuni dinamiche di viaggio. Il corso introdurrà anche elementi di pronuncia e vocabolario essenziale. \nL’evento ha un costo di € 15\,00 e sono previsti un massimo di 12 partecipanti. Info e iscrizioni all’indirizzo info@quovadisfestival.it. \n  \nMiranda Alterziu nasce in Albania ma dopo il conseguimento del diploma si trasferisce in Italia dove continua il suo percorso di studi e di formazione. Nel corso degli anni si è impegnata in diversi progetti dedicati ai minori non accompagnati e ha maturato una solida esperienza nel campo della mediazione interculturale. Da molti anni insegna lingua e cultura albanese\, contribuendo alla diffusione e alla valorizzazione della cultura albanese.
URL:https://www.quovadisfestival.it/event/inizio-mini-corso-di-lingua-albanese-per-adulti/
LOCATION:Cedocs\, Corso Italia\, 13 M\, Bolzano\, BZ\, 39100\, Italy
CATEGORIES:Lingue
ATTACH;FMTTYPE=image/jpeg:https://www.quovadisfestival.it/wp-content/uploads/2026/04/mini-corso-albanese.jpg
END:VEVENT
END:VCALENDAR