BEGIN:VCALENDAR
VERSION:2.0
PRODID:-//Quo vadis? - ECPv6.15.17.1//NONSGML v1.0//EN
CALSCALE:GREGORIAN
METHOD:PUBLISH
X-WR-CALNAME:Quo vadis?
X-ORIGINAL-URL:https://www.quovadisfestival.it
X-WR-CALDESC:Eventi per Quo vadis?
REFRESH-INTERVAL;VALUE=DURATION:PT1H
X-Robots-Tag:noindex
X-PUBLISHED-TTL:PT1H
BEGIN:VTIMEZONE
TZID:Europe/Rome
BEGIN:DAYLIGHT
TZOFFSETFROM:+0100
TZOFFSETTO:+0200
TZNAME:CEST
DTSTART:20250330T010000
END:DAYLIGHT
BEGIN:STANDARD
TZOFFSETFROM:+0200
TZOFFSETTO:+0100
TZNAME:CET
DTSTART:20251026T010000
END:STANDARD
BEGIN:DAYLIGHT
TZOFFSETFROM:+0100
TZOFFSETTO:+0200
TZNAME:CEST
DTSTART:20260329T010000
END:DAYLIGHT
BEGIN:STANDARD
TZOFFSETFROM:+0200
TZOFFSETTO:+0100
TZNAME:CET
DTSTART:20261025T010000
END:STANDARD
BEGIN:DAYLIGHT
TZOFFSETFROM:+0100
TZOFFSETTO:+0200
TZNAME:CEST
DTSTART:20270328T010000
END:DAYLIGHT
BEGIN:STANDARD
TZOFFSETFROM:+0200
TZOFFSETTO:+0100
TZNAME:CET
DTSTART:20271031T010000
END:STANDARD
END:VTIMEZONE
BEGIN:VEVENT
DTSTART;TZID=Europe/Rome:20260508T183000
DTEND;TZID=Europe/Rome:20260508T193000
DTSTAMP:20260423T202439
CREATED:20260423T084949Z
LAST-MODIFIED:20260423T090556Z
UID:63087-1778265000-1778268600@www.quovadisfestival.it
SUMMARY:Inaugurazione "I don’t see any nouns\, I see only verbs "
DESCRIPTION:09.05.2026 – 06.06.2026\nBolzano\, Centro Trevi-TreviLab\, via Cappuccini 28/B\nArtista: Edson Luli\na cura di Nicolò Faccenda \nI don’t see any nouns\, I see only verbs presenta una serie di opere installative dell’artista Edson Luli (Scutari\, 1989). Nel lavoro di Luli\, il linguaggio diventa uno strumento per interrogarsi su come l’essere umano percepisce e interpreta la realtà che lo circonda: qual è il rapporto tra i nostri pensieri e il mondo in cui viviamo?\nL’artista ci invita ad acquisire una più profonda consapevolezza del modo in cui vengono create le cornici di senso\, nell’urgenza di individuare modi alternativi di intendere il rapporto con la sfera sociale e ambientale. \nEvento d’inaugurazione\nvenerdì 8 maggio ore 18:30 \nVisite guidate aperte al pubblico\nvenerdì 22 maggio ore 18:00 *\nmercoledì 3 giugno ore 18:00 *\ndurata: 1h \nOrari di apertura mostra\nda lunedì a sabato: 10:00 – 12:00 e 15:00 – 19:00\ndomenica: chiuso\nlunedì 25 maggio e martedì 2 giugno: chiuso \n* la partecipazione agli eventi è gratuita ma è necessaria la prenotazione sulla piattaforma Eventbrite.
URL:https://www.quovadisfestival.it/event/inaugurazione-i-dont-see-any-nouns-i-see-only-verbs/
LOCATION:Centro Trevi – TreviLab\, via dei Cappuccini\, 28\, Bolzano\, BZ\, 39100\, Italy
CATEGORIES:Mostre e arti visive
ATTACH;FMTTYPE=image/jpeg:https://www.quovadisfestival.it/wp-content/uploads/2026/04/opening-Bolzano.jpg
END:VEVENT
END:VCALENDAR