BEGIN:VCALENDAR
VERSION:2.0
PRODID:-//Quo vadis? - ECPv6.15.17.1//NONSGML v1.0//EN
CALSCALE:GREGORIAN
METHOD:PUBLISH
X-WR-CALNAME:Quo vadis?
X-ORIGINAL-URL:https://www.quovadisfestival.it
X-WR-CALDESC:Eventi per Quo vadis?
REFRESH-INTERVAL;VALUE=DURATION:PT1H
X-Robots-Tag:noindex
X-PUBLISHED-TTL:PT1H
BEGIN:VTIMEZONE
TZID:Europe/Rome
BEGIN:DAYLIGHT
TZOFFSETFROM:+0100
TZOFFSETTO:+0200
TZNAME:CEST
DTSTART:20250330T010000
END:DAYLIGHT
BEGIN:STANDARD
TZOFFSETFROM:+0200
TZOFFSETTO:+0100
TZNAME:CET
DTSTART:20251026T010000
END:STANDARD
BEGIN:DAYLIGHT
TZOFFSETFROM:+0100
TZOFFSETTO:+0200
TZNAME:CEST
DTSTART:20260329T010000
END:DAYLIGHT
BEGIN:STANDARD
TZOFFSETFROM:+0200
TZOFFSETTO:+0100
TZNAME:CET
DTSTART:20261025T010000
END:STANDARD
BEGIN:DAYLIGHT
TZOFFSETFROM:+0100
TZOFFSETTO:+0200
TZNAME:CEST
DTSTART:20270328T010000
END:DAYLIGHT
BEGIN:STANDARD
TZOFFSETFROM:+0200
TZOFFSETTO:+0100
TZNAME:CET
DTSTART:20271031T010000
END:STANDARD
END:VTIMEZONE
BEGIN:VEVENT
DTSTART;TZID=Europe/Rome:20260607T183000
DTEND;TZID=Europe/Rome:20260607T203000
DTSTAMP:20260423T215504
CREATED:20260423T103800Z
LAST-MODIFIED:20260423T103800Z
UID:63154-1780857000-1780864200@www.quovadisfestival.it
SUMMARY:Finissage mostra "Mirë se vini - Mirë se ju gjeta"
DESCRIPTION:DOMENICA 7 GIUGNO\nORE 18:30\nLAIVES\, SALA ESPOSITIVA\nVIA PIETRALBA 29\nDURATA: 2 H \nTra musica e sapori d’Albania\, nella cornice della mostra Mirë se vini – Mirë se ju gjeta\, una festa per concludere assieme la quinta edizione di Quo vadis? Festival delle culture e delle lingue.
URL:https://www.quovadisfestival.it/event/finissage-mostra-mire-se-vini-mire-se-ju-gjeta/
LOCATION:Sala Espositiva Laives\, via Pietralba 29\, Laives\, BZ\, 39055\, Italy
CATEGORIES:Mostre e arti visive
ATTACH;FMTTYPE=image/jpeg:https://www.quovadisfestival.it/wp-content/uploads/2026/04/finissage_Laives.jpg
END:VEVENT
END:VCALENDAR