BEGIN:VCALENDAR
VERSION:2.0
PRODID:-//Quo vadis? - ECPv6.15.17.1//NONSGML v1.0//EN
CALSCALE:GREGORIAN
METHOD:PUBLISH
X-WR-CALNAME:Quo vadis?
X-ORIGINAL-URL:https://www.quovadisfestival.it
X-WR-CALDESC:Eventi per Quo vadis?
REFRESH-INTERVAL;VALUE=DURATION:PT1H
X-Robots-Tag:noindex
X-PUBLISHED-TTL:PT1H
BEGIN:VTIMEZONE
TZID:Europe/Rome
BEGIN:DAYLIGHT
TZOFFSETFROM:+0100
TZOFFSETTO:+0200
TZNAME:CEST
DTSTART:20250330T010000
END:DAYLIGHT
BEGIN:STANDARD
TZOFFSETFROM:+0200
TZOFFSETTO:+0100
TZNAME:CET
DTSTART:20251026T010000
END:STANDARD
BEGIN:DAYLIGHT
TZOFFSETFROM:+0100
TZOFFSETTO:+0200
TZNAME:CEST
DTSTART:20260329T010000
END:DAYLIGHT
BEGIN:STANDARD
TZOFFSETFROM:+0200
TZOFFSETTO:+0100
TZNAME:CET
DTSTART:20261025T010000
END:STANDARD
BEGIN:DAYLIGHT
TZOFFSETFROM:+0100
TZOFFSETTO:+0200
TZNAME:CEST
DTSTART:20270328T010000
END:DAYLIGHT
BEGIN:STANDARD
TZOFFSETFROM:+0200
TZOFFSETTO:+0100
TZNAME:CET
DTSTART:20271031T010000
END:STANDARD
END:VTIMEZONE
BEGIN:VEVENT
DTSTART;TZID=Europe/Rome:20260606T203000
DTEND;TZID=Europe/Rome:20260606T220000
DTSTAMP:20260423T231252
CREATED:20260423T103539Z
LAST-MODIFIED:20260423T103539Z
UID:63151-1780777800-1780783200@www.quovadisfestival.it
SUMMARY:Canti e danze tradizionali albanesi in scena
DESCRIPTION:SABATO 6 GIUGNO\nORE 20:30\nBOLZANO\, TEATRO CRISTALLO\nVIA DALMAZIA 30\nCON ENSEMBLE POPOLARE DI CANTI E DANZE “ISUF MYZYRI” – ELBASAN\, ALBANIA\nCon il sostegno dell’associazione panalbanese Arbëria \nI balli folkloristici albanesi rappresentano una delle espressioni più vive e coinvolgenti della tradizione culturale del Paese delle Aquile. Tramandati di generazione in generazione\, questi balli raccontano la storia\, le emozioni e l’identità delle diverse regioni dell’Albania. Caratterizzati da movimenti energici\, ritmi incalzanti e una forte componente collettiva\, i balli si svolgono spesso in cerchio o in fila\, simboleggiando unità e comunità. Durante la serata saranno messe in scena danze tradizionali provenienti da diverse zone dell’Albania\, alternando coreografie eleganti e misurate ad altre più dinamiche e complesse. Il tutto accompagnato da canzoni popolari fortemente evocative.\nI costumi tradizionali\, ricchi di colori e decorazioni\, aggiungono valore scenico e raccontano l’appartenenza regionale dei danzatori. Un’occasione per scoprire un simbolo di orgoglio culturale\, capace di unire passato e presente attraverso il linguaggio universale della danza e della musica. \n* la partecipazione del pubblico agli eventi è gratuita ma è necessaria la prenotazione sulla piattaforma Eventbrite. \n  \nL’Ensemble di Canti e Danze Popolari “Isuf Myzyri” è stato fondato nell’ottobre del 1979 dall’Artista del Popolo Isuf Myzyri\, creatore del folk popolare\, che pose le basi della tradizione della musica popolare di Elbasan\, cittadina dell’Albania centrale\, conferendole originalità e uno stile unico. L’Ensemble negli anni ha vinto numerosi premi e si è esibita nei maggiori festival albanesi e balcanici\, e possiede oggi un repertorio ampio e variegato\, comprendendo canzoni cittadine elbasanesi\, canti dell’Albania centrale e\, più recentemente\, anche canti di Dibra e danze dell’Albania centrale\, del Sud e del Nord.
URL:https://www.quovadisfestival.it/event/canti-e-danze-tradizionali-albanesi-in-scena/
LOCATION:Teatro Cristallo\, Via Dalmazia\, 30\, Bolzano\, BZ\, 39100\, Italy
CATEGORIES:Musica e danza
ATTACH;FMTTYPE=image/jpeg:https://www.quovadisfestival.it/wp-content/uploads/2026/04/canti-e-danze-tradizionali-1.jpg
END:VEVENT
END:VCALENDAR