BEGIN:VCALENDAR
VERSION:2.0
PRODID:-//Quo vadis? - ECPv6.15.17.1//NONSGML v1.0//EN
CALSCALE:GREGORIAN
METHOD:PUBLISH
X-WR-CALNAME:Quo vadis?
X-ORIGINAL-URL:https://www.quovadisfestival.it
X-WR-CALDESC:Eventi per Quo vadis?
REFRESH-INTERVAL;VALUE=DURATION:PT1H
X-Robots-Tag:noindex
X-PUBLISHED-TTL:PT1H
BEGIN:VTIMEZONE
TZID:Europe/Rome
BEGIN:DAYLIGHT
TZOFFSETFROM:+0100
TZOFFSETTO:+0200
TZNAME:CEST
DTSTART:20250330T010000
END:DAYLIGHT
BEGIN:STANDARD
TZOFFSETFROM:+0200
TZOFFSETTO:+0100
TZNAME:CET
DTSTART:20251026T010000
END:STANDARD
BEGIN:DAYLIGHT
TZOFFSETFROM:+0100
TZOFFSETTO:+0200
TZNAME:CEST
DTSTART:20260329T010000
END:DAYLIGHT
BEGIN:STANDARD
TZOFFSETFROM:+0200
TZOFFSETTO:+0100
TZNAME:CET
DTSTART:20261025T010000
END:STANDARD
BEGIN:DAYLIGHT
TZOFFSETFROM:+0100
TZOFFSETTO:+0200
TZNAME:CEST
DTSTART:20270328T010000
END:DAYLIGHT
BEGIN:STANDARD
TZOFFSETFROM:+0200
TZOFFSETTO:+0100
TZNAME:CET
DTSTART:20271031T010000
END:STANDARD
END:VTIMEZONE
BEGIN:VEVENT
DTSTART;TZID=Europe/Rome:20260513T180000
DTEND;TZID=Europe/Rome:20260513T190000
DTSTAMP:20260423T215403
CREATED:20260423T091846Z
LAST-MODIFIED:20260423T091846Z
UID:63102-1778695200-1778698800@www.quovadisfestival.it
SUMMARY:Lezione-concerto: viaggio nella musica albanese
DESCRIPTION:MERCOLEDÌ 13 MAGGIO\nORE 18:00\nBOLZANO\, CENTRO TREVI – TREVILAB\, VIA CAPPUCCINI 28/B\nDURATA: 1 H\nCON ERJON ZEQO \nUn incontro che propone un percorso di scoperta della cultura albanese attraverso la sua musica.\nA partire da esempi significativi del repertorio tradizionale e moderno\, verranno presentati strumenti tipici\, contesti storici e sociali e modalità espressive caratteristiche. La narrazione sarà accompagnata da esecuzioni dal vivo e ascolti guidati\, in un dialogo continuo tra teoria e performance. \n* la partecipazione del pubblico agli eventi è gratuita ma è necessaria la prenotazione sulla piattaforma Eventbrite. \n  \nErjon Zeqo è un ricercatore\, musicista e interprete di origine albanese\, attivo da molti anni a Bolzano\, dove ha sviluppato un percorso artistico incentrato sul dialogo tra culture attraverso la musica. La sua ricerca si muove tra tradizione e contemporaneità\, con un’attenzione particolare alle musiche dei Balcani e alle loro connessioni con il Mediterraneo e oltre. È ideatore e leader del progetto musicale Zio Cantante\, una formazione multiculturale che riunisce musicisti di diverse provenienze e propone un repertorio che attraversa linguaggi e geografie sonore: dalla musica popolare balcanica al klezmer\, dalle sonorità gitane a quelle latinoamericane. Il gruppo si distingue per un approccio acustico e per arrangiamenti che fondono tradizione e sensibilità
URL:https://www.quovadisfestival.it/event/lezione-concerto-viaggio-nella-musica-albanese/
LOCATION:Centro Trevi – TreviLab\, via dei Cappuccini\, 28\, Bolzano\, BZ\, 39100\, Italy
CATEGORIES:Conferenze,Musica e danza
ATTACH;FMTTYPE=image/jpeg:https://www.quovadisfestival.it/wp-content/uploads/2026/04/lezione-concerto.jpg
END:VEVENT
END:VCALENDAR