BEGIN:VCALENDAR
VERSION:2.0
PRODID:-//Quo vadis? - ECPv6.15.17.1//NONSGML v1.0//EN
CALSCALE:GREGORIAN
METHOD:PUBLISH
X-WR-CALNAME:Quo vadis?
X-ORIGINAL-URL:https://www.quovadisfestival.it
X-WR-CALDESC:Eventi per Quo vadis?
REFRESH-INTERVAL;VALUE=DURATION:PT1H
X-Robots-Tag:noindex
X-PUBLISHED-TTL:PT1H
BEGIN:VTIMEZONE
TZID:Europe/Rome
BEGIN:DAYLIGHT
TZOFFSETFROM:+0100
TZOFFSETTO:+0200
TZNAME:CEST
DTSTART:20250330T010000
END:DAYLIGHT
BEGIN:STANDARD
TZOFFSETFROM:+0200
TZOFFSETTO:+0100
TZNAME:CET
DTSTART:20251026T010000
END:STANDARD
BEGIN:DAYLIGHT
TZOFFSETFROM:+0100
TZOFFSETTO:+0200
TZNAME:CEST
DTSTART:20260329T010000
END:DAYLIGHT
BEGIN:STANDARD
TZOFFSETFROM:+0200
TZOFFSETTO:+0100
TZNAME:CET
DTSTART:20261025T010000
END:STANDARD
BEGIN:DAYLIGHT
TZOFFSETFROM:+0100
TZOFFSETTO:+0200
TZNAME:CEST
DTSTART:20270328T010000
END:DAYLIGHT
BEGIN:STANDARD
TZOFFSETFROM:+0200
TZOFFSETTO:+0100
TZNAME:CET
DTSTART:20271031T010000
END:STANDARD
END:VTIMEZONE
BEGIN:VEVENT
DTSTART;TZID=Europe/Rome:20260521T193000
DTEND;TZID=Europe/Rome:20260521T213000
DTSTAMP:20260423T214047
CREATED:20260423T095758Z
LAST-MODIFIED:20260423T095758Z
UID:63119-1779391800-1779399000@www.quovadisfestival.it
SUMMARY:Musica e gastronomia albanese si incontrano – con Skender\, Nusret\, Simon
DESCRIPTION:GIOVEDÌ 21 MAGGIO\nORE 19.30\nBOLZANO\, ODA BAR BISTRO’\nVIA ROMA 74\nCON BUZHALA SKENDER\, SEFERI NUSRET\, NDRECA SIMON \nSeconda serata del connubio musica e sapori\, tra i suoni degli strumenti e delle melodie tradizionali e i piatti tipici della cucina albanese proposti dal bar bistrò Oda. Tre musicisti\, due çifteli\, uno strumento a corde tipico del nord dell’Albania\, e una sharki\, strumento a più corde diffuso nelle regioni del sud\, accompagneranno la cena con intermezzi musicali coinvolgenti\, per un’immersione nella cultura albanese. Menù alla carta. \n* è necessaria la prenotazione al numero 389 007 9599\, posti limitati. Le prenotazioni effettuate sulla piattaforma Eventbrite non saranno prese in considerazione. \n  \nSkender\, Nusret e Simon suonano per passione e con passione nei momenti di festa della comunità e nel tempo libero strumenti tradizionali albanesi come la çifteli e la sharki\, la cui tecnica hanno appreso sin da piccoli in Albania.
URL:https://www.quovadisfestival.it/event/musica-e-gastronomia-albanese-si-incontrano-con-skender-nusret-simon/
LOCATION:Oda Bar Bistro\, Via Roma\, 74\, Bolzano\, BZ\, 39100\, Italy
CATEGORIES:Cucina,Musica e danza
ATTACH;FMTTYPE=image/jpeg:https://www.quovadisfestival.it/wp-content/uploads/2026/04/musica-e-gastronomia.jpg
END:VEVENT
END:VCALENDAR