BEGIN:VCALENDAR
VERSION:2.0
PRODID:-//Quo vadis? - ECPv6.15.17.1//NONSGML v1.0//EN
CALSCALE:GREGORIAN
METHOD:PUBLISH
X-ORIGINAL-URL:https://www.quovadisfestival.it
X-WR-CALDESC:Eventi per Quo vadis?
REFRESH-INTERVAL;VALUE=DURATION:PT1H
X-Robots-Tag:noindex
X-PUBLISHED-TTL:PT1H
BEGIN:VTIMEZONE
TZID:Europe/Rome
BEGIN:DAYLIGHT
TZOFFSETFROM:+0100
TZOFFSETTO:+0200
TZNAME:CEST
DTSTART:20250330T010000
END:DAYLIGHT
BEGIN:STANDARD
TZOFFSETFROM:+0200
TZOFFSETTO:+0100
TZNAME:CET
DTSTART:20251026T010000
END:STANDARD
BEGIN:DAYLIGHT
TZOFFSETFROM:+0100
TZOFFSETTO:+0200
TZNAME:CEST
DTSTART:20260329T010000
END:DAYLIGHT
BEGIN:STANDARD
TZOFFSETFROM:+0200
TZOFFSETTO:+0100
TZNAME:CET
DTSTART:20261025T010000
END:STANDARD
BEGIN:DAYLIGHT
TZOFFSETFROM:+0100
TZOFFSETTO:+0200
TZNAME:CEST
DTSTART:20270328T010000
END:DAYLIGHT
BEGIN:STANDARD
TZOFFSETFROM:+0200
TZOFFSETTO:+0100
TZNAME:CET
DTSTART:20271031T010000
END:STANDARD
END:VTIMEZONE
BEGIN:VEVENT
DTSTART;TZID=Europe/Rome:20260512T163000
DTEND;TZID=Europe/Rome:20260512T173000
DTSTAMP:20260423T202526
CREATED:20260423T091322Z
LAST-MODIFIED:20260423T091322Z
UID:63099-1778603400-1778607000@www.quovadisfestival.it
SUMMARY:Gli albi illustrati bilingui: due voci per la stessa storia
DESCRIPTION:MARTEDÌ 12 MAGGIO\nORE 16:30\nBOLZANO\, CENTRO MULTILINGUE\, VIA CAPPUCCINI 28/B\nDURATA: 1 H\nCON JOANA PREZA \nIl laboratorio\, pensato per bambine e bambini dai 5 ai 10 anni\, propone un’esperienza immersiva fatta di parole e immagini. Attraverso albi illustrati letti in albanese e italiano\, le piccole e i piccoli partecipanti saranno accompagnati in un percorso che stimola l’ascolto\, la comprensione e l’espressione personale\, favorendo un approccio naturale e ludico verso altre lingue o quella d’origine. Al termine della lettura è previsto un breve laboratorio manuale. \n* la partecipazione del pubblico agli eventi è gratuita ma è necessaria la prenotazione sulla piattaforma Eventbrite. \n  \nJoana Preza è un’artista visiva e poeta nata a Shijak\, in Albania nel 1995. Si forma come illustratrice presso l’Accademia di Belle Arti di Bologna e Firenze. Sperimenta diversi linguaggi\, coltivando un forte interesse per il Libro in tutte le sue declinazioni. La sua ricerca parte soprattutto dall’accoglienza dell’invisibile che ci orbita attorno\, indagando pratiche di attenzione spontanea e conseguente trasmutazione. Ha partecipato alla residenza di poesia “Arimo” presso la Casa degli Artisti (Milano)\, ed è presente tra le voci poetiche dell’antologia Poesie scelte\, edita da Specchio Mondadori.
URL:https://www.quovadisfestival.it/event/gli-albi-illustrati-bilingui-due-voci-per-la-stessa-storia/
LOCATION:Centro Multilingue Bolzano\, Via dei Cappuccini\, 28\, Bolzano\, BZ\, 39100\, Italy
CATEGORIES:Letteratura e poesia,Per bambine e bambini
ATTACH;FMTTYPE=image/jpeg:https://www.quovadisfestival.it/wp-content/uploads/2026/04/albi-illustrati-bambini-e-Laives_letture-bambini.jpg
END:VEVENT
BEGIN:VEVENT
DTSTART;TZID=Europe/Rome:20260516T160000
DTEND;TZID=Europe/Rome:20260516T180000
DTSTAMP:20260423T202526
CREATED:20260423T094154Z
LAST-MODIFIED:20260423T151739Z
UID:63107-1778947200-1778954400@www.quovadisfestival.it
SUMMARY:Letture per bambine e bambini | Laives
DESCRIPTION:SABATO 16 MAGGIO\nORE 16:00 *\nLAIVES\, SALA ESPOSITIVA\, VIA PIETRALBA 29\nDURATA: 2 H\nCON JOANA PREZA \nUn pomeriggio per scoprire l’incanto degli albi illustrati. Bambine e bambini\, aprite gli occhi e spalancate le orecchie per tutte le lingue: tra colori\, disegni e parole prendono vita mondi immaginari da esplorare. Una lettura condivisa\, dove le storie si fanno viaggio\, e ogni pagina diventa occasione per ascoltare\, immaginare e conoscersi meglio. Siete pronti a entrare nei racconti e a perdervi tra le illustrazioni? Seguirà un breve laboratorio creativo. \n* la partecipazione agli eventi è gratuita ma è necessaria la prenotazione sulla piattaforma Eventbrite. \nJoana Preza è un’artista visiva e poeta nata a Shijak\, in Albania nel 1995. Si forma come illustratrice presso l’Accademia di Belle Arti di Bologna e Firenze. Sperimenta diversi linguaggi\, coltivando un forte interesse per il Libro in tutte le sue declinazioni. La sua ricerca parte soprattutto dall’accoglienza dell’invisibile che ci orbita attorno\, indagando pratiche di attenzione spontanea e conseguente trasmutazione. Ha partecipato alla residenza di poesia “Arimo” presso la Casa degli Artisti (Milano)\, ed è presente tra le voci poetiche dell’antologia Poesie scelte\, edita da Specchio Mondadori.
URL:https://www.quovadisfestival.it/event/letture-per-bambine-e-bambini-laives/
LOCATION:Sala Espositiva Laives\, via Pietralba 29\, Laives\, BZ\, 39055\, Italy
CATEGORIES:Letteratura e poesia,Per bambine e bambini
ATTACH;FMTTYPE=image/jpeg:https://www.quovadisfestival.it/wp-content/uploads/2026/04/albi-illustrati-bambini-e-Laives_letture-bambini.jpg
END:VEVENT
END:VCALENDAR